0.2332711796
0.0000000000
0.0000000000
-0.2332711796
452564.2933431745
6581038.7158761583
