5.0000000000000
0.0000000000000
0.0000000000000
-5.0000000000000
107662.5000000000000
1617902.5000000000000
