5
0
0
-5
113337.5
1030942.5
