2.5
0
0
-2.5
852676.25
1158343.75
