5.0000000000000
0.0000000000000
0.0000000000000
-5.0000000000000
341272.5000000000000
1326412.5000000000000
