60.0000000000
0.0000000000
0.0000000000
-60.0000000000
993555.0684999991
1258810.0000000000
