20.0000000000
0.0000000000
0.0000000000
-20.0000000000
1095940.0000000000
1189530.0000000000
