60.0000000000
0.0000000000
0.0000000000
-60.0000000000
-542440.0000000000
2111110.0000000000
