20.0000000000
0.0000000000
0.0000000000
-20.0000000000
174340.0000000000
1291930.0000000000
