20.0000000000
0.0000000000
0.0000000000
-20.0000000000
-366060.0000000000
2274710.0000000000
