5.0000000000
0.0000000000
0.0000000000
-5.0000000000
1121517.5000000000
984737.5000000000
