5.0000000000
0.0000000000
0.0000000000
-5.0000000000
-363282.5000000000
1035937.5000000000
