5.0000000000
0.0000000000
0.0000000000
-5.0000000000
174317.5000000000
1215137.5000000000
