5.0000000000
0.0000000000
0.0000000000
-5.0000000000
660717.5000000000
1291937.5000000000
