5.0000000000
0.0000000000
0.0000000000
-5.0000000000
481517.5000000000
1394337.5000000000
