5.0000000000
0.0000000000
0.0000000000
-5.0000000000
123117.5000000000
1522337.5000000000
