5.0000000000
0.0000000000
0.0000000000
-5.0000000000
-388882.5000000000
1957537.5000000000
