5.0000000000
0.0000000000
0.0000000000
-5.0000000000
251117.5000000000
2008737.5000000000
