5.0000000000
0.0000000000
0.0000000000
-5.0000000000
-465682.5000000000
2059937.5000000000
