5.0000000000
0.0000000000
0.0000000000
-5.0000000000
416962.5000000000
7711967.5000000000
